Workbook

Sheet 参加申込書
A1: 令和７年度 長崎県高等学校新人体育大会（第６０回）サッカー競技
A2: 長崎県大会参加申込書
A4: 学校名 | D4: 学 校 所在地 | F4: 〒
F5: ℡ （ ）
A6: 監 督 | D6: ﾕﾆﾌｫｰﾑ の色 | F6: フィールドプレーヤー | I6: Ｇ Ｋ
F7: シャツ | G7: パンツ | H7: ソックス | I7: シャツ | J7: パンツ | K7: ソックス
A8: 主 将 | D8: 正
D9: 副
A10: 背番号 | B10: 位置 | C10: 氏 名 | D10: 学年 | E10: 生年月日 | H10: 身長㎝ | I10: 体重㎏ | J10: 登録番号
A11: 1
A12: 2
A13: 3
A14: 4
A15: 5
A16: 6
A17: 7
A18: 8
A19: 9
A20: 10
A21: 11
A22: 12
... A30: 20
A32: 上記の者は本校在学生徒で標記大会に出場することを認め参加を申し込みます。
A33: 令和 年 月 日
A34: 高等学校長 印

Sheet プログラム用
B2: =参加申込書!B4 -> 0
B3: 監 督 | M3: ／ | O3: =参加申込書!B6 -> 0
B4: 主 将 | M4: ／ | O4: =参加申込書!B8 -> 0
B5: № | D5: 位置 | G5: 氏 名 | N5: 学年 | Q5: 身 長 | U5: 体 重
B6: 1 | D6: =参加申込書!B11 -> 0 | G6: =参加申込書!C11 -> 0 | N6: =参加申込書!D11 -> 0 | Q6: =参加申込書!H11 -> 0 | U6: =参加申込書!I11 -> 0
B7: 2 | D7: =参加申込書!B12 -> 0 | G7: =参加申込書!C12 -> 0 | N7: =参加申込書!D12 -> 0 | Q7: =参加申込書!H12 -> 0 | U7: =参加申込書!I12 -> 0
B8: 3 | D8: =参加申込書!B13 -> 0 | G8: =参加申込書!C13 -> 0 | N8: =参加申込書!D13 -> 0 | Q8: =参加申込書!H13 -> 0 | U8: =参加申込書!I13 -> 0
B9: 4 | D9: =参加申込書!B14 -> 0 | G9: =参加申込書!C14 -> 0 | N9: =参加申込書!D14 -> 0 | Q9: =参加申込書!H14 -> 0 | U9: =参加申込書!I14 -> 0
B10: 5 | D10: =参加申込書!B15 -> 0 | G10: =参加申込書!C15 -> 0 | N10: =参加申込書!D15 -> 0 | Q10: =参加申込書!H15 -> 0 | U10: =参加申込書!I15 -> 0
B11: 6 | D11: =参加申込書!B16 -> 0 | G11: =参加申込書!C16 -> 0 | N11: =参加申込書!D16 -> 0 | Q11: =参加申込書!H16 -> 0 | U11: =参加申込書!I16 -> 0
B12: 7 | D12: =参加申込書!B17 -> 0 | G12: =参加申込書!C17 -> 0 | N12: =参加申込書!D17 -> 0 | Q12: =参加申込書!H17 -> 0 | U12: =参加申込書!I17 -> 0
B13: 8 | D13: =参加申込書!B18 -> 0 | G13: =参加申込書!C18 -> 0 | N13: =参加申込書!D18 -> 0 | Q13: =参加申込書!H18 -> 0 | U13: =参加申込書!I18 -> 0
B14: 9 | D14: =参加申込書!B19 -> 0 | G14: =参加申込書!C19 -> 0 | N14: =参加申込書!D19 -> 0 | Q14: =参加申込書!H19 -> 0 | U14: =参加申込書!I19 -> 0
B15: 10 | D15: =参加申込書!B20 -> 0 | G15: =参加申込書!C20 -> 0 | N15: =参加申込書!D20 -> 0 | Q15: =参加申込書!H20 -> 0 | U15: =参加申込書!I20 -> 0
B16: 11 | D16: =参加申込書!B21 -> 0 | G16: =参加申込書!C21 -> 0 | N16: =参加申込書!D21 -> 0 | Q16: =参加申込書!H21 -> 0 | U16: =参加申込書!I21 -> 0
B17: 12 | D17: =参加申込書!B22 -> 0 | G17: =参加申込書!C22 -> 0 | N17: =参加申込書!D22 -> 0 | Q17: =参加申込書!H22 -> 0 | U17: =参加申込書!I22 -> 0
... B25: 20 | D25: =参加申込書!B30 -> 0 | G25: =参加申込書!C30 -> 0 | N25: =参加申込書!D30 -> 0 | Q25: =参加申込書!H30 -> 0 | U25: =参加申込書!I30 -> 0
B26: ユニフォーム | G26: シャツ | M26: パンツ | S26: ソックス
D27: ＦＰ | G27: =参加申込書!F8 -> 0 | M27: =参加申込書!G8 -> 0 | S27: =参加申込書!H8 -> 0
G28: =参加申込書!F9 -> 0 | M28: =参加申込書!G9 -> 0 | S28: =参加申込書!H9 -> 0
D29: ＧＫ | G29: =参加申込書!I8 -> 0 | M29: =参加申込書!J8 -> 0 | S29: =参加申込書!K8 -> 0
G30: =参加申込書!I9 -> 0 | M30: =参加申込書!J9 -> 0 | S30: =参加申込書!K9 -> 0

Sheet エントリー変更申込書
A1: 令和７年度長崎県高等学校新人体育大会（第６０回）サッカー競技
A2: エントリー変更申込書
A4: 学校名 | I4: 高等学校
A5: 監 督 | K5: 印
A6: 変更前
A7: 背番号 | B7: 氏 名 | D7: 学年 | E7: 位置 | F7: 氏 名 | G7: 学年 | H7: 生年月日 | I7: 身長 | J7: 体重 | K7: 登録番号
H8: ． ．
H9: ． ．
H10: ． ．
H11: ． ．
H12: ． ．
A14: 上記の通り選手を変更することを認め、参加を申し込みます。
A15: 令和 年 月 日 高等学校校長 印
A17: ※参加登録選手の変更は、５名以内とし試合当日会場責任者へ原簿を提出すること。また、試合毎に対戦チーム へコピーを１部提出すること。 なお、背番号のみの変更は認めない。

Sheet メンバー表
B1: 令和７年度 長崎県高等学校新人体育大会
B2: （第６０回）サッカー競技 メンバー表兼交代用紙
C5: 種 別 | E5: 男子・女子
C6: 会 場
C7: 期 日 | E7: 令和 ８年 １月 日（ ）
C9: チーム名 | E9: =IF(参加申込書!B4="","",参加申込書!B4) | K9: ユニホームは、マッチの後に○を付ける | O9: 【注意事項】 ①試合開始予定時刻の70分前に 競技本部に提出 ②マッチコーディネーションは 70分前に行います。 ③エントリー変更後のメンバーを 提出してください。 【選手交代について】 ①選手交代は最大5名まで ②選手の交代回数は3回まで ③脳振盪交代（1名）あり その場合、相手チームに1名の 追加交代が認められる
C10: 対戦相手
C11: 監 督 | E11: =IF(参加申込書!B6="","",参加申込書!B6)
C12: スタッフ１
C13: スタッフ２
C14: スタッフ３
C15: スタッフ４
C16: スタッフ５
C17: ユニフォーム | E17: ＦＰ | F17: =IF(参加申込書!F8="","",参加申込書!F8) | G17: =IF(参加申込書!G8="","",参加申込書!G8) | H17: =IF(参加申込書!H8="","",参加申込書!H8) | I17: GK | J17: =IF(参加申込書!I8="","",参加申込書!I8) | K17: =IF(参加申込書!J8="","",参加申込書!J8) | L17: =IF(参加申込書!K8="","",参加申込書!K8)
E18: ＦＰ | F18: =IF(参加申込書!F9="","",参加申込書!F9) | G18: =IF(参加申込書!G9="","",参加申込書!G9) | H18: =IF(参加申込書!H9="","",参加申込書!H9) | I18: GK | J18: =IF(参加申込書!I9="","",参加申込書!I9) | K18: =IF(参加申込書!J9="","",参加申込書!J9) | L18: =IF(参加申込書!K9="","",参加申込書!K9)
C20: 主将 | F20: =IF(参加申込書!B8="","",参加申込書!B8) | L20: 先発に○ 控えに△ 出場停止 選手役員× | N20: 選手交代 Out → × in → ○ | S20: 脳振盪交代 | T20: 追加交代
N21: 1人目 | O21: 2人目 | P21: 3人目 | Q21: 4人目 | R21: 5人目
C22: 番号 | D22: 位置 | E22: 学年 | F22: 氏 名 | L22: 先発 | N22: １ ２ １ HT 延長 | O22: １ ２ ０ HT 延長 | P22: １ ２ １ HT 延長 | Q22: １ ２ ２ HT 延長 | R22: １ ２ ３ HT 延長
C25: 1 | D25: =IF(参加申込書!B11="","",参加申込書!B11) | E25: =IF(参加申込書!B11="","",参加申込書!D11) | F25: =IF(参加申込書!B11="","",参加申込書!C11)
C26: 2 | D26: =IF(参加申込書!B12="","",参加申込書!B12) | E26: =IF(参加申込書!B12="","",参加申込書!D12) | F26: =IF(参加申込書!B12="","",参加申込書!C12)
C27: 3 | D27: =IF(参加申込書!B13="","",参加申込書!B13) | E27: =IF(参加申込書!B13="","",参加申込書!D13) | F27: =IF(参加申込書!B13="","",参加申込書!C13)
C28: 4 | D28: =IF(参加申込書!B14="","",参加申込書!B14) | E28: =IF(参加申込書!B14="","",参加申込書!D14) | F28: =IF(参加申込書!B14="","",参加申込書!C14)
C29: 5 | D29: =IF(参加申込書!B15="","",参加申込書!B15) | E29: =IF(参加申込書!B15="","",参加申込書!D15) | F29: =IF(参加申込書!B15="","",参加申込書!C15)
C30: 6 | D30: =IF(参加申込書!B16="","",参加申込書!B16) | E30: =IF(参加申込書!B16="","",参加申込書!D16) | F30: =IF(参加申込書!B16="","",参加申込書!C16)
C31: 7 | D31: =IF(参加申込書!B17="","",参加申込書!B17) | E31: =IF(参加申込書!B17="","",参加申込書!D17) | F31: =IF(参加申込書!B17="","",参加申込書!C17)
C32: 8 | D32: =IF(参加申込書!B18="","",参加申込書!B18) | E32: =IF(参加申込書!B18="","",参加申込書!D18) | F32: =IF(参加申込書!B18="","",参加申込書!C18)
C33: 9 | D33: =IF(参加申込書!B19="","",参加申込書!B19) | E33: =IF(参加申込書!B19="","",参加申込書!D19) | F33: =IF(参加申込書!B19="","",参加申込書!C19)
C34: 10 | D34: =IF(参加申込書!B20="","",参加申込書!B20) | E34: =IF(参加申込書!B20="","",参加申込書!D20) | F34: =IF(参加申込書!B20="","",参加申込書!C20)
C35: 11 | D35: =IF(参加申込書!B21="","",参加申込書!B21) | E35: =IF(参加申込書!B21="","",参加申込書!D21) | F35: =IF(参加申込書!B21="","",参加申込書!C21)
C36: 12 | D36: =IF(参加申込書!B22="","",参加申込書!B22) | E36: =IF(参加申込書!B22="","",参加申込書!D22) | F36: =IF(参加申込書!B22="","",参加申込書!C22)
... C44: 20 | D44: =IF(参加申込書!B30="","",参加申込書!B30) | E44: =IF(参加申込書!B30="","",参加申込書!D30) | F44: =IF(参加申込書!B30="","",参加申込書!C30)
