Workbook
Name 氏___名: 'バレーボール（プログラム用）'!$C$10

Sheet バレーボール（プログラム用）
A1: 令和４年度 長崎県高等学校総合体育大会
F3: バレーボール競技
A5: プログラム用 データ
A7: チーム名 | I7: 高等学校 | L7: 引率者 | P7: 入力不要
A8: 監督名 | K8: 外 | L8: コーチ名 | V8: 外
A9: 主将名 | L9: ﾏﾈｰｼﾞｬｰ名
A10: 背番号 | C10: 氏 名 | K10: 学 年 | N10: 身 長
A12: 1
T13: 注意事項
A14: 2
T15: ①黄色い部分のみ入力をお願いします。ふりがなは必要ありません。
A16: 3
T17: ②入力後，このデータを清峰高校 宮崎先生までメール送信してください。
A18: 4
T19: アドレス：miyazaki1408@news.ed.jp
A20: 5
A22: 6
A24: 7
A26: 8
A28: 9
A30: 10
A32: 11
A34: 12
A36: 13
A38: 14

Sheet バレーボール (選手変更)
A1: 令和４年度 長崎県高等学校総合体育大会
A2: バレーボール競技 選手変更届
H3: 男 | I3: 女
A5: チーム名 | F5: 引率者
A6: 旧監督名 | F6: 新監督名 | J6: 外
A7: 旧コーチ名 | F7: 新コーチ名 | J7: 外
A8: 旧マネージャー名 | F8: 新マネージャー名
A9: ※ 監督・コーチが外部指導者の場合は，「外」に○印を付けること。
A10: 旧選手名 | E10: 新選手名
A11: 背番号 | B11: 氏名 | E11: 背番号 | F11: ふりがな | H11: 学年 | I11: 生年月日
F12: 氏 名
A35: 上記のとおり選手変更をいたします。
A36: 令和 年 月 日 | F36: 高等学校長 | J36: 印

Sheet 選手名簿（自動で入ります）
A2: 学校 | C2: =IF('バレーボール（プログラム用）'!D7=0," ",'バレーボール（プログラム用）'!D7)
A3: 監督 | C3: =IF('バレーボール（プログラム用）'!E8=0," ",'バレーボール（プログラム用）'!E8) | E3: =IF('バレーボール（プログラム用）'!H8=0," ",'バレーボール（プログラム用）'!H8)
A4: Ｃ | C4: =IF('バレーボール（プログラム用）'!P8=0," ",'バレーボール（プログラム用）'!P8) | E4: =IF('バレーボール（プログラム用）'!S8=0," ",'バレーボール（プログラム用）'!S8)
A5: Ｍ | C5: =IF('バレーボール（プログラム用）'!P9=0," ",'バレーボール（プログラム用）'!P9) | E5: =IF('バレーボール（プログラム用）'!S9=0," ",'バレーボール（プログラム用）'!S9)
A6: 番号 | B6: 氏 名 | F6: 学年 | G6: 身長
A7: 1 | B7: =IF('バレーボール（プログラム用）'!D12=0," ",'バレーボール（プログラム用）'!D12) | D7: =IF('バレーボール（プログラム用）'!G12=0," ",'バレーボール（プログラム用）'!G12) | F7: =IF('バレーボール（プログラム用）'!K12=0," ",'バレーボール（プログラム用）'!K12) | G7: =IF('バレーボール（プログラム用）'!N12=0," ",'バレーボール（プログラム用）'!N12) | I7: キャプテンの番号を変換し，○印にしてください
A8: 2 | B8: =IF('バレーボール（プログラム用）'!D14=0," ",'バレーボール（プログラム用）'!D14) | D8: =IF('バレーボール（プログラム用）'!G14=0," ",'バレーボール（プログラム用）'!G14) | F8: =IF('バレーボール（プログラム用）'!K14=0," ",'バレーボール（プログラム用）'!K14) | G8: =IF('バレーボール（プログラム用）'!N14=0," ",'バレーボール（プログラム用）'!N14) | I8: 例）１→①
A9: 3 | B9: =IF('バレーボール（プログラム用）'!D16=0," ",'バレーボール（プログラム用）'!D16) | D9: =IF('バレーボール（プログラム用）'!G16=0," ",'バレーボール（プログラム用）'!G16) | F9: =IF('バレーボール（プログラム用）'!K16=0," ",'バレーボール（プログラム用）'!K16) | G9: =IF('バレーボール（プログラム用）'!N16=0," ",'バレーボール（プログラム用）'!N16) | I9: ４→④ 等
A10: 4 | B10: =IF('バレーボール（プログラム用）'!D18=0," ",'バレーボール（プログラム用）'!D18) | D10: =IF('バレーボール（プログラム用）'!G18=0," ",'バレーボール（プログラム用）'!G18) | F10: =IF('バレーボール（プログラム用）'!K18=0," ",'バレーボール（プログラム用）'!K18) | G10: =IF('バレーボール（プログラム用）'!N18=0," ",'バレーボール（プログラム用）'!N18)
A11: 5 | B11: =IF('バレーボール（プログラム用）'!D20=0," ",'バレーボール（プログラム用）'!D20) | D11: =IF('バレーボール（プログラム用）'!G20=0," ",'バレーボール（プログラム用）'!G20) | F11: =IF('バレーボール（プログラム用）'!K20=0," ",'バレーボール（プログラム用）'!K20) | G11: =IF('バレーボール（プログラム用）'!N20=0," ",'バレーボール（プログラム用）'!N20)
A12: 6 | B12: =IF('バレーボール（プログラム用）'!D22=0," ",'バレーボール（プログラム用）'!D22) | D12: =IF('バレーボール（プログラム用）'!G22=0," ",'バレーボール（プログラム用）'!G22) | F12: =IF('バレーボール（プログラム用）'!K22=0," ",'バレーボール（プログラム用）'!K22) | G12: =IF('バレーボール（プログラム用）'!N22=0," ",'バレーボール（プログラム用）'!N22)
A13: 7 | B13: =IF('バレーボール（プログラム用）'!D24=0," ",'バレーボール（プログラム用）'!D24) | D13: =IF('バレーボール（プログラム用）'!G24=0," ",'バレーボール（プログラム用）'!G24) | F13: =IF('バレーボール（プログラム用）'!K24=0," ",'バレーボール（プログラム用）'!K24) | G13: =IF('バレーボール（プログラム用）'!N24=0," ",'バレーボール（プログラム用）'!N24)
A14: 8 | B14: =IF('バレーボール（プログラム用）'!D26=0," ",'バレーボール（プログラム用）'!D26) | D14: =IF('バレーボール（プログラム用）'!G26=0," ",'バレーボール（プログラム用）'!G26) | F14: =IF('バレーボール（プログラム用）'!K26=0," ",'バレーボール（プログラム用）'!K26) | G14: =IF('バレーボール（プログラム用）'!N26=0," ",'バレーボール（プログラム用）'!N26)
A15: 9 | B15: =IF('バレーボール（プログラム用）'!D28=0," ",'バレーボール（プログラム用）'!D28) | D15: =IF('バレーボール（プログラム用）'!G28=0," ",'バレーボール（プログラム用）'!G28) | F15: =IF('バレーボール（プログラム用）'!K28=0," ",'バレーボール（プログラム用）'!K28) | G15: =IF('バレーボール（プログラム用）'!N28=0," ",'バレーボール（プログラム用）'!N28)
A16: 10 | B16: =IF('バレーボール（プログラム用）'!D30=0," ",'バレーボール（プログラム用）'!D30) | D16: =IF('バレーボール（プログラム用）'!G30=0," ",'バレーボール（プログラム用）'!G30) | F16: =IF('バレーボール（プログラム用）'!K30=0," ",'バレーボール（プログラム用）'!K30) | G16: =IF('バレーボール（プログラム用）'!N30=0," ",'バレーボール（プログラム用）'!N30)
A17: 11 | B17: =IF('バレーボール（プログラム用）'!D32=0," ",'バレーボール（プログラム用）'!D32) | D17: =IF('バレーボール（プログラム用）'!G32=0," ",'バレーボール（プログラム用）'!G32) | F17: =IF('バレーボール（プログラム用）'!K32=0," ",'バレーボール（プログラム用）'!K32) | G17: =IF('バレーボール（プログラム用）'!N32=0," ",'バレーボール（プログラム用）'!N32)
A18: 12 | B18: =IF('バレーボール（プログラム用）'!D34=0," ",'バレーボール（プログラム用）'!D34) | D18: =IF('バレーボール（プログラム用）'!G34=0," ",'バレーボール（プログラム用）'!G34) | F18: =IF('バレーボール（プログラム用）'!K34=0," ",'バレーボール（プログラム用）'!K34) | G18: =IF('バレーボール（プログラム用）'!N34=0," ",'バレーボール（プログラム用）'!N34)
A19: 13 | B19: =IF('バレーボール（プログラム用）'!D36=0," ",'バレーボール（プログラム用）'!D36) | D19: =IF('バレーボール（プログラム用）'!G36=0," ",'バレーボール（プログラム用）'!G36) | F19: =IF('バレーボール（プログラム用）'!K36=0," ",'バレーボール（プログラム用）'!K36) | G19: =IF('バレーボール（プログラム用）'!N36=0," ",'バレーボール（プログラム用）'!N36)
A20: 14 | B20: =IF('バレーボール（プログラム用）'!D38=0," ",'バレーボール（プログラム用）'!D38) | D20: =IF('バレーボール（プログラム用）'!G38=0," ",'バレーボール（プログラム用）'!G38) | F20: =IF('バレーボール（プログラム用）'!K38=0," ",'バレーボール（プログラム用）'!K38) | G20: =IF('バレーボール（プログラム用）'!N38=0," ",'バレーボール（プログラム用）'!N38)
