Workbook

Sheet 入力シート
A1: 平成３１年度長崎県高等学校体育大会（第７１回）サッカー競技
A2: 参加申込書
A4: 学校名 | D4: 学 校 所在地 | F4: 〒
F5: ℡ （ ）
A6: 監 督 | D6: ﾕﾆﾌｫｰﾑ の色 | F6: フィールドプレーヤー | I6: Ｇ Ｋ
F7: ﾕﾆﾌｫｰﾑ | G7: パンツ | H7: ｽﾄｯｷﾝｸﾞ | I7: ﾕﾆﾌｫｰﾑ | J7: パンツ | K7: ｽﾄｯｷﾝｸﾞ
A8: 主 将 | D8: 正
D9: 副
A10: 背番号 | B10: 位置 | C10: 氏 名 | D10: 学年 | E10: 生年月日 | H10: 身長㎝ | I10: 体重㎏ | J10: 登録番号
A11: 1
A12: 2
A13: 3
A14: 4
A15: 5
A16: 6
A17: 7
A18: 8
A19: 9
A20: 10
A21: 11
A22: 12
... A30: 20

Sheet プログラム用
B2: =入力シート!B4 -> 0
B3: 監 督 | M3: ／ | O3: =入力シート!B6 -> 0
B4: 主 将 | M4: ／ | O4: =入力シート!B8 -> 0
B5: № | D5: 位置 | G5: 氏 名 | N5: 学年 | Q5: 身 長 | U5: 体 重
B6: 1 | D6: =入力シート!B11 -> 0 | G6: =入力シート!C11 -> 0 | N6: =入力シート!D11 -> 0 | Q6: =入力シート!H11 -> 0 | U6: =入力シート!I11 -> 0
B7: 2 | D7: =入力シート!B12 -> 0 | G7: =入力シート!C12 -> 0 | N7: =入力シート!D12 -> 0 | Q7: =入力シート!H12 -> 0 | U7: =入力シート!I12 -> 0
B8: 3 | D8: =入力シート!B13 -> 0 | G8: =入力シート!C13 -> 0 | N8: =入力シート!D13 -> 0 | Q8: =入力シート!H13 -> 0 | U8: =入力シート!I13 -> 0
B9: 4 | D9: =入力シート!B14 -> 0 | G9: =入力シート!C14 -> 0 | N9: =入力シート!D14 -> 0 | Q9: =入力シート!H14 -> 0 | U9: =入力シート!I14 -> 0
B10: 5 | D10: =入力シート!B15 -> 0 | G10: =入力シート!C15 -> 0 | N10: =入力シート!D15 -> 0 | Q10: =入力シート!H15 -> 0 | U10: =入力シート!I15 -> 0
B11: 6 | D11: =入力シート!B16 -> 0 | G11: =入力シート!C16 -> 0 | N11: =入力シート!D16 -> 0 | Q11: =入力シート!H16 -> 0 | U11: =入力シート!I16 -> 0
B12: 7 | D12: =入力シート!B17 -> 0 | G12: =入力シート!C17 -> 0 | N12: =入力シート!D17 -> 0 | Q12: =入力シート!H17 -> 0 | U12: =入力シート!I17 -> 0
B13: 8 | D13: =入力シート!B18 -> 0 | G13: =入力シート!C18 -> 0 | N13: =入力シート!D18 -> 0 | Q13: =入力シート!H18 -> 0 | U13: =入力シート!I18 -> 0
B14: 9 | D14: =入力シート!B19 -> 0 | G14: =入力シート!C19 -> 0 | N14: =入力シート!D19 -> 0 | Q14: =入力シート!H19 -> 0 | U14: =入力シート!I19 -> 0
B15: 10 | D15: =入力シート!B20 -> 0 | G15: =入力シート!C20 -> 0 | N15: =入力シート!D20 -> 0 | Q15: =入力シート!H20 -> 0 | U15: =入力シート!I20 -> 0
B16: 11 | D16: =入力シート!B21 -> 0 | G16: =入力シート!C21 -> 0 | N16: =入力シート!D21 -> 0 | Q16: =入力シート!H21 -> 0 | U16: =入力シート!I21 -> 0
B17: 12 | D17: =入力シート!B22 -> 0 | G17: =入力シート!C22 -> 0 | N17: =入力シート!D22 -> 0 | Q17: =入力シート!H22 -> 0 | U17: =入力シート!I22 -> 0
... B25: 20 | D25: =入力シート!B30 -> 0 | G25: =入力シート!C30 -> 0 | N25: =入力シート!D30 -> 0 | Q25: =入力シート!H30 -> 0 | U25: =入力シート!I30 -> 0
B26: ユニフォーム | G26: 上 衣 | M26: パンツ | S26: ｽﾄｯｷﾝｸﾞ
D27: ＦＰ | G27: =入力シート!F8 -> 0 | M27: =入力シート!G8 -> 0 | S27: =入力シート!H8 -> 0
G28: =入力シート!F9 -> 0 | M28: =入力シート!G9 -> 0 | S28: =入力シート!H9 -> 0
D29: ＧＫ | G29: =入力シート!I8 -> 0 | M29: =入力シート!J8 -> 0 | S29: =入力シート!K8 -> 0
G30: =入力シート!I9 -> 0 | M30: =入力シート!J9 -> 0 | S30: =入力シート!K9 -> 0

Sheet エントリー変更申込書
A1: 平成３１年度長崎県高等学校体育大会（第７１回）サッカー競技
A2: エントリー変更申込書
A4: 学校名 | I4: 高等学校
A5: 監 督 | K5: 印
A6: 変更前
A7: 背番号 | B7: 氏 名 | D7: 学年 | E7: 位置 | F7: 氏 名 | G7: 学年 | H7: 生年月日 | I7: 身長 | J7: 体重 | K7: 登録番号
H8: ． ．
H9: ． ．
H10: ． ．
H11: ． ．
H12: ． ．
A14: 上記の通り選手を変更することを認め、参加を申し込みます。
A15: 平成 年 月 日 高等学校校長 印
A17: ※参加登録選手の変更は、５名以内とし試合当日会場責任者へ原簿を提出すること。また、試合毎に対戦チーム へコピーを１部提出すること。 なお、背番号のみの変更は認めない。

Sheet メンバー表
C1: 平成３１年度 長崎県高等学校体育大会
C2: （第７１回）サッカー競技 メンバー表兼交代用紙
C5: 種 別 | E5: 男子・女子
C6: 会 場
C7: 期 日 | E7: 年 月 日（ ）
C9: チーム名 | E9: =IF(入力シート!B4="","",入力シート!B4) | K9: ユニホームは、マッチの後に○を付ける | N9: 注意事項 ①試合開始予定時刻の70分前に選手証と一緒に競技本部に提出 ②マッチコーディネーションは70分前に行います。
C10: 対戦相手
C11: 監 督 | E11: =IF(入力シート!B6="","",入力シート!B6)
C12: スタッフ１
C13: スタッフ２
C14: スタッフ３
C15: スタッフ４
C16: スタッフ５
C17: ユニフォーム | E17: ＦＰ | F17: =IF(入力シート!F8="","",入力シート!F8) | G17: =IF(入力シート!G8="","",入力シート!G8) | H17: =IF(入力シート!H8="","",入力シート!H8) | I17: GK | J17: =IF(入力シート!I8="","",入力シート!I8) | K17: =IF(入力シート!J8="","",入力シート!J8) | L17: =IF(入力シート!K8="","",入力シート!K8)
E18: ＦＰ | F18: =IF(入力シート!F9="","",入力シート!F9) | G18: =IF(入力シート!G9="","",入力シート!G9) | H18: =IF(入力シート!H9="","",入力シート!H9) | I18: GK | J18: =IF(入力シート!I9="","",入力シート!I9) | K18: =IF(入力シート!J9="","",入力シート!J9) | L18: =IF(入力シート!K9="","",入力シート!K9)
L20: 先発に○ 控えに△ 出場停止 選手役員× | N20: 選手交代 Out → × in → ○
C22: 番号 | D22: 位置 | E22: 学年 | F22: 氏 名 | L22: 先発 | N22: １回目 | O22: ２回目 | P22: ３回目 | Q22: ４回目 | R22: ５回目
C23: 主将 | F23: =IF(入力シート!B8="","",入力シート!B8)
C24: 1 | D24: =IF(入力シート!B11="","",入力シート!B11) | E24: =IF(入力シート!B11="","",入力シート!D11) | F24: =IF(入力シート!B11="","",入力シート!C11)
C25: 2 | D25: =IF(入力シート!B12="","",入力シート!B12) | E25: =IF(入力シート!B12="","",入力シート!D12) | F25: =IF(入力シート!B12="","",入力シート!C12)
C26: 3 | D26: =IF(入力シート!B13="","",入力シート!B13) | E26: =IF(入力シート!B13="","",入力シート!D13) | F26: =IF(入力シート!B13="","",入力シート!C13)
C27: 4 | D27: =IF(入力シート!B14="","",入力シート!B14) | E27: =IF(入力シート!B14="","",入力シート!D14) | F27: =IF(入力シート!B14="","",入力シート!C14)
C28: 5 | D28: =IF(入力シート!B15="","",入力シート!B15) | E28: =IF(入力シート!B15="","",入力シート!D15) | F28: =IF(入力シート!B15="","",入力シート!C15)
C29: 6 | D29: =IF(入力シート!B16="","",入力シート!B16) | E29: =IF(入力シート!B16="","",入力シート!D16) | F29: =IF(入力シート!B16="","",入力シート!C16)
C30: 7 | D30: =IF(入力シート!B17="","",入力シート!B17) | E30: =IF(入力シート!B17="","",入力シート!D17) | F30: =IF(入力シート!B17="","",入力シート!C17)
C31: 8 | D31: =IF(入力シート!B18="","",入力シート!B18) | E31: =IF(入力シート!B18="","",入力シート!D18) | F31: =IF(入力シート!B18="","",入力シート!C18)
C32: 9 | D32: =IF(入力シート!B19="","",入力シート!B19) | E32: =IF(入力シート!B19="","",入力シート!D19) | F32: =IF(入力シート!B19="","",入力シート!C19)
C33: 10 | D33: =IF(入力シート!B20="","",入力シート!B20) | E33: =IF(入力シート!B20="","",入力シート!D20) | F33: =IF(入力シート!B20="","",入力シート!C20)
C34: 11 | D34: =IF(入力シート!B21="","",入力シート!B21) | E34: =IF(入力シート!B21="","",入力シート!D21) | F34: =IF(入力シート!B21="","",入力シート!C21)
C35: 12 | D35: =IF(入力シート!B22="","",入力シート!B22) | E35: =IF(入力シート!B22="","",入力シート!D22) | F35: =IF(入力シート!B22="","",入力シート!C22)
... C43: 20 | D43: =IF(入力シート!B30="","",入力シート!B30) | E43: =IF(入力シート!B30="","",入力シート!D30) | F43: =IF(入力シート!B30="","",入力シート!C30)
