Workbook

Sheet 申込書
A1: テ ニ ス 競 技 | V1: 女子は キリトル
A2: 長崎県高等学校総合体育大会 参加申込書
Q3: 男 | S3: 女
A5: 学 校 名 | M5: 監 督 名 | P5: 外
N6: ※外部指導者は外に○印をつける。
A7: 団体
A8: 順位 | C8: 氏 名 | G8: 学年 | H8: 生 年 月 日 | K8: 順位 | M8: 氏 名 | Q8: 学年 | R8: 生 年 月 日
A9: No.1 | C9: =PHONETIC(C10) | K9: No.4 | M9: =PHONETIC(M10)
A11: No.2 | C11: =PHONETIC(C12) | K11: No.5 | M11: =PHONETIC(M12)
A13: No.3 | C13: =PHONETIC(C14) | K13: No.6 | M13: =PHONETIC(M14)
A15: 学年は③、②、①で記入すること。 | H15: 氏名は姓と名の間だけ全角１文字文開け、他の文字間は開けないこと。
H16: ふりがなは自動で入りますが、間違っている場合は訂正すること。
A18: 個人戦シングルス | L18: 個人戦ダブルス
A19: 順位 | C19: 略名 | D19: 氏 名 | H19: 学年 | I19: 生 年 月 日 | L19: 順位 | N19: 略名 | O19: 氏 名 | S19: 学年 | T19: 生 年 月 日
A20: No.1 | D20: =PHONETIC(D21) | L20: No.1 | O20: =PHONETIC(O21)
A22: No.2 | D22: =PHONETIC(D23) | O22: =PHONETIC(O23)
A24: No.3 | D24: =PHONETIC(D25) | L24: No.2 | O24: =PHONETIC(O25)
A26: No.4 | D26: =PHONETIC(D27) | O26: =PHONETIC(O27)
A28: No.5 | D28: =PHONETIC(D29) | L28: No.3 | O28: =PHONETIC(O29)
A30: ※No.6 | D30: =PHONETIC(D31) | O30: =PHONETIC(O31)
A32: ※No.7 | D32: =PHONETIC(D33) | L32: ※No.4 | O32: =PHONETIC(O33)
O34: =PHONETIC(O35)
C36: 参加人数合計 | G36: 名 | K36: 学年は③、②、①で記入すること。
K37: 氏名は姓と名の間だけ全角１文字文開け、他の文字間は開けないこと。
K38: ふりがなは自動で入りますが、間違っている場合は訂正すること。
A40: ※印は県新人大会での枠外出場権獲得の学校のみ記入すること
A41: (注) | B41: 1 | C41: 団体の部、個人の部ともに実力順に記入すること。
B42: 2 | C42: 申込書個人戦の略校名は出場するすべての欄に記入すること。
B44: 上記の者は本校在学生徒で、表記大会に出場することを認め、参加を申し込みます。
A46: 平成２９年 月 日 | L46: 高等学校長 | U46: 印

Sheet 処理シート
A1: 団体戦
A2: 順 | B2: チーム名(校名) | C2: 所 属 | E2: Ｎｏ１氏名 | F2: Ｎｏ２氏名 | G2: Ｎｏ３氏名 | H2: Ｎｏ４氏名 | I2: Ｎｏ５氏名 | J2: Ｎｏ６氏名
B3: =申込書!D5 -> 0 | E3: =申込書!C10&申込書!G9 | F3: =申込書!C12&申込書!G11 | G3: =申込書!C14&申込書!G13 | H3: =申込書!M10&申込書!Q9 | I3: =申込書!M12&申込書!Q11 | J3: =申込書!M14&申込書!Q13
D5: 個人戦シングルス
D6: 順位 | E6: 氏名 | F6: 学校名
D7: 1 | E7: =申込書!D21 -> 0 | F7: =申込書!C20 -> 0
D8: 2 | E8: =申込書!D23 -> 0 | F8: =申込書!C22 -> 0
D9: 3 | E9: =申込書!D25 -> 0 | F9: =申込書!C24 -> 0
D10: 4 | E10: =申込書!D27 -> 0 | F10: =申込書!C26 -> 0
D11: 5 | E11: =申込書!D29 -> 0 | F11: =申込書!C28 -> 0
D12: 6 | E12: =申込書!D31 -> 0 | F12: =申込書!C30 -> 0
D13: 7 | E13: =申込書!D33 -> 0 | F13: =申込書!C32 -> 0
D15: 個人戦ダブルス
D16: 順位 | E16: 氏名 | F16: 学校名
D17: 1 | E17: =LEFT(申込書!O21,H17-1)&"・"&LEFT(申込書!O23,I17-1) -> #VALUE! | F17: =申込書!N20 -> 0 | H17: =FIND(" ",申込書!O21,1) -> #VALUE! | I17: =FIND(" ",申込書!O23,1) -> #VALUE!
D18: 2 | E18: =LEFT(申込書!O25,H18-1)&"・"&LEFT(申込書!O27,I18-1) -> #VALUE! | F18: =申込書!N24 -> 0 | H18: =FIND(" ",申込書!O25,1) -> #VALUE! | I18: =FIND(" ",申込書!O27,1) -> #VALUE!
D19: 3 | E19: =LEFT(申込書!O29,H19-1)&"・"&LEFT(申込書!O31,I19-1) -> #VALUE! | F19: =申込書!N28 -> 0 | H19: =FIND(" ",申込書!O29,1) -> #VALUE! | I19: =FIND(" ",申込書!O31,1) -> #VALUE!
D20: 4 | E20: =LEFT(申込書!O33,H20-1)&"・"&LEFT(申込書!O35,I20-1) -> #VALUE! | F20: =申込書!N32 -> 0 | H20: =FIND(" ",申込書!O33,1) -> #VALUE! | I20: =FIND(" ",申込書!O35,1) -> #VALUE!

Sheet Sheet3
