Workbook
Name 氏___名: 'バレーボール（参加申込書）'!$C$12

Sheet バレーボール（参加申込書）
A1: 平成２８年度 長崎県高等学校総合体育大会 | U1: 女子は 切り取る
G3: バレーボール競技
A5: 参 加 申 込 書 | S5: 男子 | U5: 女子
A7: チーム名 | I7: 高等学校 | L7: 引率者 | AA7: 注意事項
A8: 監督名 | K8: 外 | L8: コーチ名 | V8: 外
A9: 主将名 | L9: ﾏﾈｰｼﾞｬｰ名 | AA9: ① | AB9: 自動でふりがなが入るように設定しています。ふりがなが違う形で出てきた場合は，ふりがなを訂正してください。
A10: 所在地 | D10: 〒 | AA10: ② | AB10: 選手氏名欄は，ふりがなを自動で入れる設定のため，「均等割り付け」に設定しています。氏名が４文字５文字の場合はスペースなしで入力し，３文字の場合は，性と名の間にスペースを２つ入れると４文字の名前と揃います。
D11: ※監督・コーチが外部指導者の場合は，「外」に○印をつけること。
A12: 背番号 | C12: 氏 名 | K12: 生 年 月 日 | Q12: 学 年 | T12: 身 長 | AB12: 例） | AC12: 山口郁彦 | AH12: （４文字はスペースなしで）
A13: 1 | K13: Ｈ | M13: ・ | O13: ・ | AC13: 宮崎崇 | AH13: （３文字は性と名の間にスペース２つ）
A14: 2 | K14: Ｈ | M14: ・ | O14: ・ | W14: （性と名の間にスペースを２つ入れると） | AC14: 宮崎 崇 | AH14: （４文字幅に揃います）
A15: 3 | K15: Ｈ | M15: ・ | O15: ・ | AA15: ④ | AB15: 入力後，このデータを純心女子高校 田浦先生までメール送信してください。
A16: 4 | K16: Ｈ | M16: ・ | O16: ・ | AB16: アドレス： taura@n-junshin.ed.jp
A17: 5 | K17: Ｈ | M17: ・ | O17: ・
A18: 6 | K18: Ｈ | M18: ・ | O18: ・
A19: 7 | K19: Ｈ | M19: ・ | O19: ・
A20: 8 | K20: Ｈ | M20: ・ | O20: ・
A21: 9 | K21: Ｈ | M21: ・ | O21: ・
A22: 10 | K22: Ｈ | M22: ・ | O22: ・
A23: 11 | K23: Ｈ | M23: ・ | O23: ・
A24: 12 | K24: Ｈ | M24: ・ | O24: ・
A26: 上記の者は本校在学生徒で，標記大会に出場することを認め，参加を申し込みます。
A27: 平成 | D27: 年 | F27: 月 | H27: 日 | N27: 高等学校長 | V27: 印

Sheet バレーボール (選手変更)
A1: 平成２８年度 長崎県高等学校総合体育大会
A2: バレーボール競技
H3: 男 | I3: 女
A5: チーム名 | F5: 引率者
A6: 旧監督名 | F6: 新監督名 | J6: 外
A7: 旧マネージャー名 | F7: 新マネージャー名
A8: ※ 新監督が外部指導者の場合は，新監督名欄横の外に○印を付ける。 また，引率者名を記入すること。
A9: 旧選手名 | E9: 新選手名
A10: 背番号 | B10: 氏名 | E10: 背番号 | F10: 氏 名 | H10: 学年 | I10: 生年月日
A20: 上記のとおり選手変更をいたします。
A21: 平成 年 月 日 | F21: 高等学校長 | J21: 印

Sheet 選手名簿データ（入力しないでください自動で入ります）
A2: 学校 | B2: =IF('バレーボール（参加申込書）'!D7=0," ",'バレーボール（参加申込書）'!D7)
A3: 監督 | B3: =IF('バレーボール（参加申込書）'!D8=0," ",'バレーボール（参加申込書）'!D8)
A4: Ｃ | B4: =IF('バレーボール（参加申込書）'!O8=0," ",'バレーボール（参加申込書）'!O8)
A5: Ｍ | B5: =IF('バレーボール（参加申込書）'!O9=0," ",'バレーボール（参加申込書）'!O9)
A6: 番号 | B6: 氏 名 | C6: 学年 | D6: 身長
A7: 1 | B7: =IF('バレーボール（参加申込書）'!C13=0," ",'バレーボール（参加申込書）'!C13) | C7: =IF('バレーボール（参加申込書）'!Q13=0," ",'バレーボール（参加申込書）'!Q13) | D7: =IF('バレーボール（参加申込書）'!T13=0," ",'バレーボール（参加申込書）'!T13)
A8: 2 | B8: =IF('バレーボール（参加申込書）'!C14=0," ",'バレーボール（参加申込書）'!C14) | C8: =IF('バレーボール（参加申込書）'!Q14=0," ",'バレーボール（参加申込書）'!Q14) | D8: =IF('バレーボール（参加申込書）'!T14=0," ",'バレーボール（参加申込書）'!T14)
A9: 3 | B9: =IF('バレーボール（参加申込書）'!C15=0," ",'バレーボール（参加申込書）'!C15) | C9: =IF('バレーボール（参加申込書）'!Q15=0," ",'バレーボール（参加申込書）'!Q15) | D9: =IF('バレーボール（参加申込書）'!T15=0," ",'バレーボール（参加申込書）'!T15)
A10: 4 | B10: =IF('バレーボール（参加申込書）'!C16=0," ",'バレーボール（参加申込書）'!C16) | C10: =IF('バレーボール（参加申込書）'!Q16=0," ",'バレーボール（参加申込書）'!Q16) | D10: =IF('バレーボール（参加申込書）'!T16=0," ",'バレーボール（参加申込書）'!T16)
A11: 5 | B11: =IF('バレーボール（参加申込書）'!C17=0," ",'バレーボール（参加申込書）'!C17) | C11: =IF('バレーボール（参加申込書）'!Q17=0," ",'バレーボール（参加申込書）'!Q17) | D11: =IF('バレーボール（参加申込書）'!T17=0," ",'バレーボール（参加申込書）'!T17)
A12: 6 | B12: =IF('バレーボール（参加申込書）'!C18=0," ",'バレーボール（参加申込書）'!C18) | C12: =IF('バレーボール（参加申込書）'!Q18=0," ",'バレーボール（参加申込書）'!Q18) | D12: =IF('バレーボール（参加申込書）'!T18=0," ",'バレーボール（参加申込書）'!T18)
A13: 7 | B13: =IF('バレーボール（参加申込書）'!C19=0," ",'バレーボール（参加申込書）'!C19) | C13: =IF('バレーボール（参加申込書）'!Q19=0," ",'バレーボール（参加申込書）'!Q19) | D13: =IF('バレーボール（参加申込書）'!T19=0," ",'バレーボール（参加申込書）'!T19)
A14: 8 | B14: =IF('バレーボール（参加申込書）'!C20=0," ",'バレーボール（参加申込書）'!C20) | C14: =IF('バレーボール（参加申込書）'!Q20=0," ",'バレーボール（参加申込書）'!Q20) | D14: =IF('バレーボール（参加申込書）'!T20=0," ",'バレーボール（参加申込書）'!T20)
A15: 9 | B15: =IF('バレーボール（参加申込書）'!C21=0," ",'バレーボール（参加申込書）'!C21) | C15: =IF('バレーボール（参加申込書）'!Q21=0," ",'バレーボール（参加申込書）'!Q21) | D15: =IF('バレーボール（参加申込書）'!T21=0," ",'バレーボール（参加申込書）'!T21)
A16: 10 | B16: =IF('バレーボール（参加申込書）'!C22=0," ",'バレーボール（参加申込書）'!C22) | C16: =IF('バレーボール（参加申込書）'!Q22=0," ",'バレーボール（参加申込書）'!Q22) | D16: =IF('バレーボール（参加申込書）'!T22=0," ",'バレーボール（参加申込書）'!T22)
A17: 11 | B17: =IF('バレーボール（参加申込書）'!C23=0," ",'バレーボール（参加申込書）'!C23) | C17: =IF('バレーボール（参加申込書）'!Q23=0," ",'バレーボール（参加申込書）'!Q23) | D17: =IF('バレーボール（参加申込書）'!T23=0," ",'バレーボール（参加申込書）'!T23)
A18: 12 | B18: =IF('バレーボール（参加申込書）'!C24=0," ",'バレーボール（参加申込書）'!C24) | C18: =IF('バレーボール（参加申込書）'!Q24=0," ",'バレーボール（参加申込書）'!Q24) | D18: =IF('バレーボール（参加申込書）'!T24=0," ",'バレーボール（参加申込書）'!T24)
